BEGIN:VCALENDAR
VERSION:2.0
PRODID:-//Library Market//iCal Export//EN
BEGIN:VEVENT
SUMMARY:Testing projector
UID:56451
DTSTAMP:20260424T021400Z
DTSTART:20260427T200000Z
DTEND:20260427T210000Z
LOCATION:214 Adams Street, Jefferson City, MO 65109, United States
ROOM: MRRL Art Gallery
DESCRIPTION:
URL:https://www.mrrl.org/event/testing-projector-56451
END:VEVENT
END:VCALENDAR
