BEGIN:VCALENDAR
VERSION:2.0
PRODID:-//Library Market//iCal Export//EN
BEGIN:VEVENT
SUMMARY:Empower Missouri Staff Retreat
UID:56450
DTSTAMP:20260424T104700Z
DTSTART:20260508T140000Z
DTEND:20260508T180000Z
LOCATION:214 Adams Street, Jefferson City, MO 65109, United States
ROOM: Truman Room
DESCRIPTION:
URL:https://www.mrrl.org/event/empower-missouri-staff-retreat-56450
END:VEVENT
END:VCALENDAR
