BEGIN:VCALENDAR
VERSION:2.0
PRODID:-//Library Market//iCal Export//EN
BEGIN:VEVENT
SUMMARY:Probation and Parole
UID:56449
DTSTAMP:20260424T215500Z
DTSTART:20260528T140000Z
DTEND:20260528T170000Z
LOCATION:214 Adams Street, Jefferson City, MO 65109, United States
ROOM: Truman Room
DESCRIPTION:
URL:https://www.mrrl.org/event/probation-and-parole-56449
END:VEVENT
END:VCALENDAR
