BEGIN:VCALENDAR
VERSION:2.0
PRODID:-//Library Market//iCal Export//EN
BEGIN:VEVENT
SUMMARY:Probation and Parole
UID:56448
DTSTAMP:20260424T121300Z
DTSTART:20260514T140000Z
DTEND:20260514T170000Z
LOCATION:214 Adams Street, Jefferson City, MO 65109, United States
ROOM: Truman Room
DESCRIPTION:
URL:https://www.mrrl.org/reservation/probation-and-parole-5
END:VEVENT
END:VCALENDAR
