BEGIN:VCALENDAR
VERSION:2.0
PRODID:-//Library Market//iCal Export//EN
BEGIN:VEVENT
SUMMARY:Girl Scout Parent meeting
UID:56447
DTSTAMP:20260424T054700Z
DTSTART:20260426T184500Z
DTEND:20260426T204500Z
LOCATION:214 Adams Street, Jefferson City, MO 65109, United States
ROOM: Truman Room
DESCRIPTION:Parent meeting for our trip to Branson, MO
URL:https://www.mrrl.org/event/girl-scout-parent-meeting-56447
END:VEVENT
END:VCALENDAR
