BEGIN:VCALENDAR
VERSION:2.0
PRODID:-//Library Market//iCal Export//EN
BEGIN:VEVENT
SUMMARY:Dupont Meeting
UID:56443
DTSTAMP:20260423T132200Z
DTSTART:20260424T140000Z
DTEND:20260424T180000Z
LOCATION:Missouri River Regional Library, 214 Adams Street, Jefferson City
 , MO 65101, United States
ROOM: MRRL Art Gallery West
DESCRIPTION:Our Dupont office is needing a space to work out of in the mor
 ning when our office will be unavailable.
URL:https://www.mrrl.org/event/dupont-meeting-56443
END:VEVENT
END:VCALENDAR
