BEGIN:VCALENDAR
VERSION:2.0
PRODID:-//Library Market//iCal Export//EN
BEGIN:VEVENT
SUMMARY:Tutoring
UID:56440
DTSTAMP:20260423T010300Z
DTSTART:20260428T213000Z
DTEND:20260428T223000Z
LOCATION:214 Adams Street, Jefferson City, MO 65109, United States
ROOM: Truman Room
DESCRIPTION:
URL:https://www.mrrl.org/event/tutoring-56440
END:VEVENT
END:VCALENDAR
