BEGIN:VCALENDAR
VERSION:2.0
PRODID:-//Library Market//iCal Export//EN
BEGIN:VEVENT
SUMMARY:Tutoring
UID:56439
DTSTAMP:20260423T132200Z
DTSTART:20260423T213000Z
DTEND:20260423T223000Z
LOCATION:214 Adams Street, Jefferson City, MO 65109, United States
ROOM: Truman Room
DESCRIPTION:
URL:https://www.mrrl.org/reservation/tutoring-13
END:VEVENT
END:VCALENDAR
