BEGIN:VCALENDAR
VERSION:2.0
PRODID:-//Library Market//iCal Export//EN
BEGIN:VEVENT
SUMMARY:Mid-Missouri Whole Food Plant Based Meetup
UID:56434
DTSTAMP:20260423T170900Z
DTSTART:20260509T150000Z
DTEND:20260509T160000Z
LOCATION:214 Adams Street, Jefferson City, MO 65109, United States
ROOM: Truman Room
DESCRIPTION:Mid-Missouri Whole Food Plant Based get together
URL:https://www.mrrl.org/event/mid-missouri-whole-food-plant-based-meetup-
 56434
END:VEVENT
END:VCALENDAR
