BEGIN:VCALENDAR
VERSION:2.0
PRODID:-//Library Market//iCal Export//EN
BEGIN:VEVENT
SUMMARY:Tutoring
UID:56433
DTSTAMP:20260422T034400Z
DTSTART:20260421T230000Z
DTEND:20260422T003000Z
LOCATION:214 Adams Street, Jefferson City, MO 65109, United States
ROOM: Truman Room
DESCRIPTION:
URL:https://www.mrrl.org/event/tutoring-56433
END:VEVENT
END:VCALENDAR
