BEGIN:VCALENDAR
VERSION:2.0
PRODID:-//Library Market//iCal Export//EN
BEGIN:VEVENT
SUMMARY:Girll Scout CSA group
UID:56432
DTSTAMP:20260422T022900Z
DTSTART:20260712T180000Z
DTEND:20260712T210000Z
LOCATION:214 Adams Street, Jefferson City, MO 65109, United States
ROOM: MRRL Art Gallery
DESCRIPTION:Girl Scout meeting to plan events for our Jeff City troops.
URL:https://www.mrrl.org/event/girll-scout-csa-group-56432
END:VEVENT
END:VCALENDAR
