BEGIN:VCALENDAR
VERSION:2.0
PRODID:-//Library Market//iCal Export//EN
BEGIN:VEVENT
SUMMARY:Workgroup
UID:56430
DTSTAMP:20260421T230500Z
DTSTART:20260421T164500Z
DTEND:20260421T183000Z
LOCATION:Missouri River Regional Library, 214 Adams Street, Jefferson City
 , MO 65101, United States
ROOM: Mark Twain Room
DESCRIPTION:
URL:https://www.mrrl.org/event/workgroup-56430
END:VEVENT
END:VCALENDAR
