BEGIN:VCALENDAR
VERSION:2.0
PRODID:-//Library Market//iCal Export//EN
BEGIN:VEVENT
SUMMARY:MU Extension Focus on Kids Class
UID:56429
DTSTAMP:20260423T064400Z
DTSTART:20260707T203000Z
DTEND:20260707T223000Z
LOCATION:22 Library Lane, Linn, MO 65051, United States
ROOM: Osage County Branch Classroom
DESCRIPTION:
URL:https://www.mrrl.org/event/mu-extension-focus-kids-class-56429
END:VEVENT
END:VCALENDAR
