BEGIN:VCALENDAR
VERSION:2.0
PRODID:-//Library Market//iCal Export//EN
BEGIN:VEVENT
SUMMARY:Thomas Jefferson Middle School&#039;s Patriot Reader celebration
UID:56428
DTSTAMP:20260421T203600Z
DTSTART:20260430T160000Z
DTEND:20260430T190000Z
LOCATION:Missouri River Regional Library, 214 Adams Street, Jefferson City
 , MO 65101, United States
ROOM: Thomas Jefferson Middle School&#039;s Patriot Reader celebration
DESCRIPTION:
URL:https://www.mrrl.org/event/thomas-jefferson-middle-schools-patriot-rea
 der-celebration-56428
END:VEVENT
END:VCALENDAR
