BEGIN:VCALENDAR
VERSION:2.0
PRODID:-//Library Market//iCal Export//EN
BEGIN:VEVENT
SUMMARY:Jefferson City Art Club Exhibit Reception
UID:56427
DTSTAMP:20260422T022000Z
DTSTART:20260628T190000Z
DTEND:20260628T210000Z
LOCATION:214 Adams Street, Jefferson City, MO 65109, United States
ROOM: MRRL Art Gallery
DESCRIPTION:Join us for a reception for our current Jefferson City Art Clu
 b exhibit. Light refreshments will be served.The exhibit runs May 3 - July
  31. You may tour the exhibit during library hours, except when a program 
 is scheduled. Call the library if you need assistance planning your visit.
URL:https://www.mrrl.org/event/jefferson-city-art-club-exhibit-reception-0
END:VEVENT
END:VCALENDAR
