BEGIN:VCALENDAR
VERSION:2.0
PRODID:-//Library Market//iCal Export//EN
BEGIN:VEVENT
SUMMARY:Jefferson City Art Club Exhibit Teardown
UID:56425
DTSTAMP:20260421T061300Z
DTSTART:20260731T180000Z
DTEND:20260731T220000Z
LOCATION:214 Adams Street, Jefferson City, MO 65109, United States
ROOM: MRRL Art Gallery
DESCRIPTION:The Library will host an exhibit by members of the Jefferson C
 ity Art Club.If you would like to know more about the Jefferson City Art C
 lub, visit their site at jeffersoncityartclub-missouri.com/.  
URL:https://www.mrrl.org/event/jefferson-city-art-club-exhibit-teardown-56
 425
END:VEVENT
END:VCALENDAR
