BEGIN:VCALENDAR
VERSION:2.0
PRODID:-//Library Market//iCal Export//EN
BEGIN:VEVENT
SUMMARY:Empower Missouri Staff Retreat
UID:56419
DTSTAMP:20260420T083500Z
DTSTART:20260506T163000Z
DTEND:20260506T220000Z
LOCATION:214 Adams Street, Jefferson City, MO 65109, United States
ROOM: Truman Room
DESCRIPTION:
URL:https://www.mrrl.org/event/empower-missouri-staff-retreat-56419
END:VEVENT
END:VCALENDAR
