BEGIN:VCALENDAR
VERSION:2.0
PRODID:-//Library Market//iCal Export//EN
BEGIN:VEVENT
SUMMARY:MOPD Best Practice Training for Early Childhood Professionals
UID:56409
DTSTAMP:20260420T070400Z
DTSTART:20260613T140000Z
DTEND:20260613T170000Z
LOCATION:Missouri River Regional Library, 214 Adams Street, Jefferson City
 , MO 65101, United States
ROOM: Mark Twain Room
DESCRIPTION:Required clock hour training for early childhood caregivers in
  the Jefferson City area.
URL:https://www.mrrl.org/event/mopd-best-practice-training-early-childhood
 -professionals-56409
END:VEVENT
END:VCALENDAR
